BEGIN:VCALENDAR
VERSION:2.0
PRODID:-//Geheimrat Goethe - ECPv6.3.6//NONSGML v1.0//EN
CALSCALE:GREGORIAN
METHOD:PUBLISH
X-WR-CALNAME:Geheimrat Goethe
X-ORIGINAL-URL:https://geheimrat-goethe.com
X-WR-CALDESC:Events for Geheimrat Goethe
REFRESH-INTERVAL;VALUE=DURATION:PT1H
X-Robots-Tag:noindex
X-PUBLISHED-TTL:PT1H
BEGIN:VTIMEZONE
TZID:UTC
BEGIN:STANDARD
TZOFFSETFROM:+0000
TZOFFSETTO:+0000
TZNAME:UTC
DTSTART:20230101T000000
END:STANDARD
END:VTIMEZONE
BEGIN:VEVENT
DTSTART;VALUE=DATE:20230525
DTEND;VALUE=DATE:20230526
DTSTAMP:20260423T010035
CREATED:20221106T230401Z
LAST-MODIFIED:20221106T230401Z
UID:679-1684972800-1685059199@geheimrat-goethe.com
SUMMARY:Brüderliches Gespräch
DESCRIPTION:
URL:https://geheimrat-goethe.com/event/bruederliches-gespraech-4/
END:VEVENT
BEGIN:VEVENT
DTSTART;VALUE=DATE:20230613
DTEND;VALUE=DATE:20230614
DTSTAMP:20260423T010035
CREATED:20221106T230424Z
LAST-MODIFIED:20221106T230446Z
UID:682-1686614400-1686700799@geheimrat-goethe.com
SUMMARY:Instruktion
DESCRIPTION:Johannisfest
URL:https://geheimrat-goethe.com/event/johannisfest/
END:VEVENT
BEGIN:VEVENT
DTSTART;VALUE=DATE:20230624
DTEND;VALUE=DATE:20230625
DTSTAMP:20260423T010035
CREATED:20221106T230507Z
LAST-MODIFIED:20221106T230507Z
UID:686-1687564800-1687651199@geheimrat-goethe.com
SUMMARY:Johannisfest
DESCRIPTION:
URL:https://geheimrat-goethe.com/event/johannisfest-2/
END:VEVENT
BEGIN:VEVENT
DTSTART;VALUE=DATE:20230708
DTEND;VALUE=DATE:20230709
DTSTAMP:20260423T010035
CREATED:20221106T230525Z
LAST-MODIFIED:20221106T231146Z
UID:689-1688774400-1688860799@geheimrat-goethe.com
SUMMARY:Rüste
DESCRIPTION:
URL:https://geheimrat-goethe.com/event/rueste/
END:VEVENT
END:VCALENDAR